Workbook

Sheet Instrucciones
A1: Plantilla de finanzas personales
A3: Cómo utilizarla
A5: Paso | B5: Pestaña | C5: Qué hacer
A6: 1 | B6: Cuentas | C6: Anota tus bancos, cuentas, tarjetas y saldos. Actualiza los saldos una vez al mes.
A7: 2 | B7: Presupuesto mensual | C7: Introduce tus ingresos habituales y tus gastos fijos, variables, ahorro y pagos de deuda.
A8: 3 | B8: Gastos | C8: Registra tus gastos reales con fecha, descripción, importe, categoría y medio de pago.
A9: 4 | B9: Deudas | C9: Centraliza las obligaciones pendientes, cuotas y fechas para conocer el saldo total.
A10: 5 | B10: Fondo emergencia | C10: Define tu objetivo y registra las aportaciones mensuales para ver el acumulado.
A11: 6 | B11: Metas de ahorro | C11: Pon nombre a cada objetivo, cuánto necesitas, cuánto llevas y cuánto falta.
A12: 7 | B12: Patrimonio | C12: Registra activos y pasivos para calcular tu patrimonio neto.
A13: 8 | B13: Resumen anual | C13: Revisa mes a mes ingresos, gastos, ahorro, deuda y patrimonio.
A15: Leyenda
A17: Celdas amarillas | B17: Rellena o modifica estos datos.
A18: Celdas grises | B18: Contienen fórmulas o cálculos automáticos.
A20: Uso educativo: esta plantilla sirve para organizar información financiera personal. No constituye asesoramiento financiero ni sustituye la revisión de las condiciones de tus productos financieros.

Sheet Resumen anual
A1: Resumen anual de finanzas personales
A2: Año | B2: 2026
A4: Concepto | B4: Enero | C4: Febrero | D4: Marzo | E4: Abril | F4: Mayo | G4: Junio | H4: Julio | I4: Agosto | J4: Septiembre | K4: Octubre | L4: Noviembre | M4: Diciembre | N4: Total / cierre
A5: Ingresos | B5: 1600 | N5: =SUM(B5:M5) -> 1600
A6: Gastos | B6: =SUMIFS(Gastos!$C$5:$C$304,Gastos!$A$5:$A$304,">="&DATE($B$2,1,1),Gastos!$A$5:$A$304,"<"&DATE($B$2,2,1)) -> 90 | C6: =SUMIFS(Gastos!$C$5:$C$304,Gastos!$A$5:$A$304,">="&DATE($B$2,2,1),Gastos!$A$5:$A$304,"<"&DATE($B$2,3,1)) -> 0 | D6: =SUMIFS(Gastos!$C$5:$C$304,Gastos!$A$5:$A$304,">="&DATE($B$2,3,1),Gastos!$A$5:$A$304,"<"&DATE($B$2,4,1)) -> 0 | E6: =SUMIFS(Gastos!$C$5:$C$304,Gastos!$A$5:$A$304,">="&DATE($B$2,4,1),Gastos!$A$5:$A$304,"<"&DATE($B$2,5,1)) -> 0 | F6: =SUMIFS(Gastos!$C$5:$C$304,Gastos!$A$5:$A$304,">="&DATE($B$2,5,1),Gastos!$A$5:$A$304,"<"&DATE($B$2,6,1)) -> 0 | G6: =SUMIFS(Gastos!$C$5:$C$304,Gastos!$A$5:$A$304,">="&DATE($B$2,6,1),Gastos!$A$5:$A$304,"<"&DATE($B$2,7,1)) -> 0 | H6: =SUMIFS(Gastos!$C$5:$C$304,Gastos!$A$5:$A$304,">="&DATE($B$2,7,1),Gastos!$A$5:$A$304,"<"&DATE($B$2,8,1)) -> 0 | I6: =SUMIFS(Gastos!$C$5:$C$304,Gastos!$A$5:$A$304,">="&DATE($B$2,8,1),Gastos!$A$5:$A$304,"<"&DATE($B$2,9,1)) -> 0 | J6: =SUMIFS(Gastos!$C$5:$C$304,Gastos!$A$5:$A$304,">="&DATE($B$2,9,1),Gastos!$A$5:$A$304,"<"&DATE($B$2,10,1)) -> 0 | K6: =SUMIFS(Gastos!$C$5:$C$304,Gastos!$A$5:$A$304,">="&DATE($B$2,10,1),Gastos!$A$5:$A$304,"<"&DATE($B$2,11,1)) -> 0 | L6: =SUMIFS(Gastos!$C$5:$C$304,Gastos!$A$5:$A$304,">="&DATE($B$2,11,1),Gastos!$A$5:$A$304,"<"&DATE($B$2,12,1)) -> 0 | M6: =SUMIFS(Gastos!$C$5:$C$304,Gastos!$A$5:$A$304,">="&DATE($B$2,12,1),Gastos!$A$5:$A$304,"<"&DATE($B$2+1,1,1)) -> 0 | N6: =SUM(B6:M6) -> 90
A7: Ahorro | B7: 100 | N7: =SUM(B7:M7) -> 100
A8: Deuda pendiente | N8: =M8 -> 0
A9: Patrimonio | N9: =M9 -> 0
A10: Flujo disponible | B10: =B5-B6-B7 -> 1410 | C10: =C5-C6-C7 -> 0 | D10: =D5-D6-D7 -> 0 | E10: =E5-E6-E7 -> 0 | F10: =F5-F6-F7 -> 0 | G10: =G5-G6-G7 -> 0 | H10: =H5-H6-H7 -> 0 | I10: =I5-I6-I7 -> 0 | ... M10: =M5-M6-M7 -> 0 | N10: =SUM(B10:M10) -> 1410
A12: Los gastos se calculan automáticamente desde la pestaña “Gastos”. Ingresos, ahorro, deuda y patrimonio se actualizan manualmente al cierre de cada mes.

Sheet Cuentas
A1: Registro de cuentas y saldos
A3: Entidad | B3: Tipo de producto | C3: Saldo inicial | D3: Enero | E3: Febrero | F3: Marzo | G3: Abril | H3: Mayo | I3: Junio | J3: Julio | K3: Agosto | L3: Septiembre | M3: Octubre | N3: Noviembre | O3: Diciembre | P3: Uso habitual | Q3: ¿Mantener?
A4: Banco España | B4: Cuenta de ahorro | C4: 12000 | D4: 11000 | E4: 10000 | F4: 9000 | G4: 8000 | H4: 7000 | P4: Nómina y recibos | Q4: Sí
A5: Tarjeta ClubPASS | B5: Tarjeta | C5: 1000 | D5: 1000 | E5: 1000 | F5: 1000 | G5: 1000 | H5: 1000 | P5: Gastos diarios | Q5: Sí
A6: Casa | B6: Efectivo | C6: 200 | D6: 200 | E6: 200 | F6: 200 | G6: 200 | H6: 200
A14: TOTAL | C14: =SUM(C4:C13) -> 13200 | D14: =SUM(D4:D13) -> 12200 | E14: =SUM(E4:E13) -> 11200 | F14: =SUM(F4:F13) -> 10200 | G14: =SUM(G4:G13) -> 9200 | H14: =SUM(H4:H13) -> 8200 | I14: =SUM(I4:I13) -> 0 | J14: =SUM(J4:J13) -> 0 | ... P14: =SUM(P4:P13) -> 0

Sheet Presupuesto mensual
A1: Presupuesto mensual base
A2: Rellena una cifra mensual razonable. La columna anual se calcula automáticamente.
A4: Concepto | B4: Tipo | C4: Mensual | D4: Anual
A5: INGRESOS
A6: Nómina / salario | B6: Ingreso | C6: 1500 | D6: =C6*12 -> 18000
A7: Segundo ingreso | B7: Ingreso | C7: 100 | D7: =C7*12 -> 1200
A8: Ingresos como autónomo | B8: Ingreso | D8: =C8*12 -> 0
A9: Otros ingresos recurrentes | B9: Ingreso | D9: =C9*12 -> 0
A10: TOTAL INGRESOS | C10: =SUM(C6:C9) -> 1600 | D10: =C10*12 -> 19200
A12: GASTOS FIJOS
A13: Alquiler / hipoteca | B13: Fijo | C13: 400 | D13: =C13*12 -> 4800
A14: Electricidad | B14: Fijo | C14: 20 | D14: =C14*12 -> 240
A15: Agua | B15: Fijo | C15: 10 | D15: =C15*12 -> 120
A16: Internet | B16: Fijo | C16: 10 | D16: =C16*12 -> 120
A17: Teléfono | B17: Fijo | C17: 10 | D17: =C17*12 -> 120
A18: Transporte | B18: Fijo | C18: 20 | D18: =C18*12 -> 240
A19: Seguros | B19: Fijo | C19: 20 | D19: =C19*12 -> 240
A20: Estudios | B20: Fijo | C20: 200 | D20: =C20*12 -> 2400
A21: Suscripciones | B21: Fijo | C21: 20 | D21: =C21*12 -> 240
A22: Otros gastos fijos | B22: Fijo | D22: =C22*12 -> 0
A23: TOTAL GASTOS FIJOS | C23: =SUM(C13:C22) -> 710 | D23: =C23*12 -> 8520
A25: GASTOS VARIABLES
A26: Supermercado | B26: Variable | C26: 200 | D26: =C26*12 -> 2400
A27: Restaurantes / comidas fuera | B27: Variable | C27: 200 | D27: =C27*12 -> 2400
A28: Ocio / entretenimiento | B28: Variable | C28: 30 | D28: =C28*12 -> 360
A29: Ropa | B29: Variable | C29: 50 | D29: =C29*12 -> 600
A30: Viajes | B30: Variable | C30: 100 | D30: =C30*12 -> 1200
A31: Cuidado personal | B31: Variable | D31: =C31*12 -> 0
A32: Compras para casa | B32: Variable | D32: =C32*12 -> 0
A33: Regalos | B33: Variable | C33: 20 | D33: =C33*12 -> 240
A34: Otros gastos variables | B34: Variable | D34: =C34*12 -> 0
A35: TOTAL GASTOS VARIABLES | C35: =SUM(C26:C34) -> 600 | D35: =C35*12 -> 7200
A37: AHORRO Y METAS
A38: Ahorro / fondo de emergencia | B38: Ahorro | C38: 50 | D38: =C38*12 -> 600
A39: Metas de ahorro | B39: Ahorro | D39: =C39*12 -> 0
A40: TOTAL AHORRO | C40: =SUM(C38:C39) -> 50 | D40: =C40*12 -> 600
A42: PAGO DE DEUDAS
A43: Cuotas de deuda | B43: Deuda | C43: 150 | D43: =C43*12 -> 1800
A44: TOTAL PAGO DE DEUDAS | C44: =SUM(C43:C43) -> 150 | D44: =C44*12 -> 1800
A46: RESUMEN
...

Sheet Gastos
A1: Registro de gastos reales
A2: Añade una fila por cada gasto. El resumen anual utiliza la fecha y el importe de esta tabla.
A4: Fecha | B4: Descripción | C4: Importe | D4: Categoría | E4: Tipo | F4: Medio de pago | G4: Cuenta / entidad | H4: Mes
A5: 46024 | B5: Abono transporte | C5: 20 | D5: Transporte | E5: Fijo | F5: Tarjeta | G5: Tarjeta ClubPass | H5: =IF(A5="","",TEXT(A5,"mmmm")) -> enero
A6: 46027 | B6: Compra Carrefour | C6: 50 | D6: Supermercado | E6: Variable | F6: Tarjeta | G6: Tarjeta ClubPass | H6: =IF(A6="","",TEXT(A6,"mmmm")) -> enero
A7: 46032 | B7: Seguro médico | C7: 20 | D7: Seguros | E7: Fijo | F7: Cuenta bancaria | G7: Banco España | H7: =IF(A7="","",TEXT(A7,"mmmm")) -> enero
H8: =IF(A8="","",TEXT(A8,"mmmm"))
H9: =IF(A9="","",TEXT(A9,"mmmm"))
H10: =IF(A10="","",TEXT(A10,"mmmm"))
H11: =IF(A11="","",TEXT(A11,"mmmm"))
H12: =IF(A12="","",TEXT(A12,"mmmm"))
H13: =IF(A13="","",TEXT(A13,"mmmm"))
H14: =IF(A14="","",TEXT(A14,"mmmm"))
H15: =IF(A15="","",TEXT(A15,"mmmm"))
H16: =IF(A16="","",TEXT(A16,"mmmm"))
H17: =IF(A17="","",TEXT(A17,"mmmm"))
H18: =IF(A18="","",TEXT(A18,"mmmm"))
H19: =IF(A19="","",TEXT(A19,"mmmm"))
... H304: =IF(A304="","",TEXT(A304,"mmmm"))

Sheet Deudas
A1: Control de deudas
A2: Registra aquí cada deuda u obligación pendiente. Los campos de interés y fechas son opcionales.
A4: Entidad / acreedor | B4: Producto / deuda | C4: Saldo pendiente | D4: Cuota mensual | E4: Interés (si aplica) | F4: Fecha inicio | G4: Fecha fin | H4: Estado
H5: Activa
A20: TOTAL | C20: =SUM(C5:C19) -> 0 | D20: =SUM(D5:D19) -> 0

Sheet Fondo emergencia
A1: Fondo de emergencia
A3: Dato | B3: Valor
A4: Gastos esenciales mensuales
A5: Meses que quieres cubrir
A6: Objetivo del fondo | B6: =IF(OR(B4="",B5=""),"",B4*B5)
A8: Mes | B8: Aportación | C8: Acumulado | D8: % del objetivo
A9: Enero | C9: =B9 -> 0 | D9: =IF($B$6="","",C9/$B$6)
A10: Febrero | C10: =C9+B10 -> 0 | D10: =IF($B$6="","",C10/$B$6)
A11: Marzo | C11: =C10+B11 -> 0 | D11: =IF($B$6="","",C11/$B$6)
A12: Abril | C12: =C11+B12 -> 0 | D12: =IF($B$6="","",C12/$B$6)
A13: Mayo | C13: =C12+B13 -> 0 | D13: =IF($B$6="","",C13/$B$6)
A14: Junio | C14: =C13+B14 -> 0 | D14: =IF($B$6="","",C14/$B$6)
A15: Julio | C15: =C14+B15 -> 0 | D15: =IF($B$6="","",C15/$B$6)
A16: Agosto | C16: =C15+B16 -> 0 | D16: =IF($B$6="","",C16/$B$6)
A17: Septiembre | C17: =C16+B17 -> 0 | D17: =IF($B$6="","",C17/$B$6)
A18: Octubre | C18: =C17+B18 -> 0 | D18: =IF($B$6="","",C18/$B$6)
A19: Noviembre | C19: =C18+B19 -> 0 | D19: =IF($B$6="","",C19/$B$6)
A20: Diciembre | C20: =C19+B20 -> 0 | D20: =IF($B$6="","",C20/$B$6)
A22: El objetivo depende de tu situación personal y de la estabilidad de tus ingresos. La plantilla calcula el importe a partir de los gastos esenciales y del número de meses que tú elijas.

Sheet Metas de ahorro
A1: Metas de ahorro
A3: Objetivo | B3: Importe objetivo | C3: Fecha objetivo | D3: Ahorrado | E3: Pendiente | F3: Aportación mensual | G3: Prioridad
A4: Vacaciones familiares | B4: 1000 | C4: 46244 | D4: 500 | E4: =IF(B4="","",MAX(0,B4-D4)) -> 500 | F4: 50 | G4: Media
E5: =IF(B5="","",MAX(0,B5-D5))
E6: =IF(B6="","",MAX(0,B6-D6))
E7: =IF(B7="","",MAX(0,B7-D7))
E8: =IF(B8="","",MAX(0,B8-D8))
E9: =IF(B9="","",MAX(0,B9-D9))
E10: =IF(B10="","",MAX(0,B10-D10))
E11: =IF(B11="","",MAX(0,B11-D11))
E12: =IF(B12="","",MAX(0,B12-D12))
E13: =IF(B13="","",MAX(0,B13-D13))
E14: =IF(B14="","",MAX(0,B14-D14))
E15: =IF(B15="","",MAX(0,B15-D15))
E16: =IF(B16="","",MAX(0,B16-D16))
... E18: =IF(B18="","",MAX(0,B18-D18))
A19: TOTAL | B19: =SUM(B4:B18) -> 1000 | D19: =SUM(D4:D18) -> 500 | E19: =SUM(E4:E18) -> 500 | F19: =SUM(F4:F18) -> 50

Sheet Patrimonio
A1: Análisis patrimonial
A2: Haz una fotografía de tus activos y pasivos en una fecha concreta.
A4: ACTIVOS | B4: Valor | D4: PASIVOS | E4: Importe pendiente
A5: Dinero en cuentas | D5: Tarjetas
A6: Ahorros | D6: Préstamos
A7: Inversiones | D7: Financiaciones
A8: Vehículo / otros bienes | D8: Otras deudas
A9: Otros activos
A15: TOTAL ACTIVOS | B15: =SUM(B5:B14) -> 0 | D15: TOTAL PASIVOS | E15: =SUM(E5:E14) -> 0
A18: PATRIMONIO NETO
A19: Total activos | B19: =B15 -> 0
A20: Total pasivos | B20: =E15 -> 0
A21: Patrimonio neto | B21: =B19-B20 -> 0
